BEGIN:VCALENDAR
VERSION:2.0
PRODID:-//ChamberMaster//Event Calendar 2.0//EN
METHOD:PUBLISH
X-PUBLISHED-TTL:P3D
REFRESH-INTERVAL:P3D
CALSCALE:GREGORIAN
BEGIN:VEVENT
DTSTART:20200415T120000Z
DTEND:20200415T130000Z
X-MICROSOFT-CDO-ALLDAYEVENT:FALSE
SUMMARY:Marysville Business Association
DESCRIPTION:Marysville Business Association\n\nSpeaker/Topic: 30 Minute Showcase\n\nRaffle Sponsor: Peak Financial Wellness\n\nBreakfast Sponsor: Steve Stolte & Mardy Hanlon-Stolte\n\n10 Minute Spotlight: Why Not Challenge - Union County Board of Developmental Disabilities
X-ALT-DESC;FMTTYPE=text/html:Marysville Business Association<br />\nSpeaker/Topic: 30 Minute Showcase<br />\nRaffle Sponsor: Peak Financial Wellness<br />\nBreakfast Sponsor: Steve Stolte &amp\; Mardy Hanlon-Stolte<br />\n10 Minute Spotlight: Why Not Challenge - Union County Board of Developmental Disabilities
LOCATION:The Marysville Elks 125 E. Fifth St. Marysville\, OH
UID:e.1767.12964
SEQUENCE:3
DTSTAMP:20260424T072714Z
URL:https://chambermaster.unioncounty.org/events/details/marysville-business-association-04-15-2020-12964
END:VEVENT

END:VCALENDAR
