BEGIN:VCALENDAR
VERSION:2.0
PRODID:-//ChamberMaster//Event Calendar 2.0//EN
METHOD:PUBLISH
X-PUBLISHED-TTL:P3D
REFRESH-INTERVAL:P3D
CALSCALE:GREGORIAN
BEGIN:VEVENT
DTSTART:20210317T120000Z
DTEND:20210317T130000Z
X-MICROSOFT-CDO-ALLDAYEVENT:FALSE
SUMMARY:Marysville Business Association
DESCRIPTION:Marysville Business Association\n\nSpeaker/Topic: Amanda Morris - "Marketing With The City"
X-ALT-DESC;FMTTYPE=text/html:Marysville Business Association<br />\nSpeaker/Topic: Amanda Morris - &quot\;Marketing With The City&quot\;<br />\n&nbsp\;
LOCATION:
UID:e.1767.12975
SEQUENCE:3
DTSTAMP:20260423T053707Z
URL:https://chambermaster.unioncounty.org/events/details/marysville-business-association-03-17-2021-12975
END:VEVENT

END:VCALENDAR
