BEGIN:VCALENDAR
VERSION:2.0
PRODID:-//ChamberMaster//Event Calendar 2.0//EN
METHOD:PUBLISH
X-PUBLISHED-TTL:P3D
REFRESH-INTERVAL:P3D
CALSCALE:GREGORIAN
BEGIN:VEVENT
DTSTART:20200219T130000Z
DTEND:20200219T140000Z
X-MICROSOFT-CDO-ALLDAYEVENT:FALSE
SUMMARY:Marysville Business Association
DESCRIPTION:Marysville Business Association\n\nSpeaker/Topic: Union County Auditor\, Andrea Weaver\; "Property Assessments"\n\nRaffle Sponsor:Minuteman Press\n\nBreakfast Sponsor: \n\n10 Minute Spotlight: Minuteman Press
X-ALT-DESC;FMTTYPE=text/html:Marysville Business Association<br />\nSpeaker/Topic: Union County Auditor\, Andrea Weaver\; &quot\;Property Assessments&quot\;<br />\nRaffle Sponsor:Minuteman Press<br />\nBreakfast Sponsor:&nbsp\;<br />\n10 Minute Spotlight: Minuteman Press
LOCATION:The Marysville Elks 125 E. Fifth St. Marysville\, OH
UID:e.1767.12962
SEQUENCE:3
DTSTAMP:20260424T090405Z
URL:https://chambermaster.unioncounty.org/events/details/marysville-business-association-02-19-2020-12962
END:VEVENT

END:VCALENDAR
