BEGIN:VCALENDAR
VERSION:2.0
PRODID:-//ChamberMaster//Event Calendar 2.0//EN
METHOD:PUBLISH
X-PUBLISHED-TTL:P3D
REFRESH-INTERVAL:P3D
CALSCALE:GREGORIAN
BEGIN:VEVENT
DTSTART:20230215T130000Z
DTEND:20230215T140000Z
X-MICROSOFT-CDO-ALLDAYEVENT:FALSE
SUMMARY:Marysville Business Association
DESCRIPTION:Marysville Business Association\n\nSpeaker/Topic: 2023 Plans & Goals for the County & City
X-ALT-DESC;FMTTYPE=text/html:Marysville Business Association<br />\nSpeaker/Topic: 2023 Plans &amp\; Goals for the County &amp\; City<br />\n&nbsp\;
LOCATION:The Marysville Elks 125 East Fifth Street\, Marysville
UID:e.1767.12998
SEQUENCE:3
DTSTAMP:20260421T173516Z
URL:https://chambermaster.unioncounty.org/events/details/marysville-business-association-02-15-2023-12998
END:VEVENT

END:VCALENDAR
