BEGIN:VCALENDAR
VERSION:2.0
PRODID:-//ChamberMaster//Event Calendar 2.0//EN
METHOD:PUBLISH
X-PUBLISHED-TTL:P3D
REFRESH-INTERVAL:P3D
CALSCALE:GREGORIAN
BEGIN:VEVENT
DTSTART:20210120T130000Z
DTEND:20210120T140000Z
X-MICROSOFT-CDO-ALLDAYEVENT:FALSE
SUMMARY:Marysville Business Association
DESCRIPTION:Marysville Business Association\n\nSpeaker/Topic: Jason Duff - " Bringing Your Business Back from COVID"
X-ALT-DESC;FMTTYPE=text/html:Marysville Business Association<br />\nSpeaker/Topic: Jason Duff - &quot\; Bringing Your Business Back from COVID&quot\;<br />\n&nbsp\;
LOCATION:Via Zoom
UID:e.1767.12973
SEQUENCE:3
DTSTAMP:20260423T081847Z
URL:https://chambermaster.unioncounty.org/events/details/marysville-business-association-01-20-2021-12973
END:VEVENT

END:VCALENDAR
