BEGIN:VCALENDAR
VERSION:2.0
PRODID:-//ChamberMaster//Event Calendar 2.0//EN
METHOD:PUBLISH
X-PUBLISHED-TTL:P3D
REFRESH-INTERVAL:P3D
CALSCALE:GREGORIAN
BEGIN:VEVENT
DTSTART:20200115T130000Z
DTEND:20200115T140000Z
X-MICROSOFT-CDO-ALLDAYEVENT:FALSE
SUMMARY:Marysville Business Association
DESCRIPTION:Marysville Business Association\n\nSpeaker/Topic: Marysville City Manager\, Terry Emery\; "Japan 2019 Mission"\n\nRaffle Sponsor: Marysville Early College High School\n\nBreakfast Sponsor: UCO Industries \n\n10 Minute Spotlight: Big Brothers Big Sisters of Central Ohio
X-ALT-DESC;FMTTYPE=text/html:Marysville Business Association<br />\nSpeaker/Topic: Marysville City Manager\, Terry Emery\; &quot\;Japan 2019 Mission&quot\;<br />\nRaffle Sponsor: Marysville Early College High School<br />\nBreakfast Sponsor: UCO Industries&nbsp\;<br />\n10 Minute Spotlight: Big Brothers Big Sisters of Central Ohio
LOCATION:The Marysville Elks 125 E. Fifth St. Marysville\, OH
UID:e.1767.12961
SEQUENCE:3
DTSTAMP:20260424T104020Z
URL:https://chambermaster.unioncounty.org/events/details/marysville-business-association-01-15-2020-12961
END:VEVENT

END:VCALENDAR
