BEGIN:VCALENDAR
VERSION:2.0
PRODID:-//ChamberMaster//Event Calendar 2.0//EN
METHOD:PUBLISH
X-PUBLISHED-TTL:P3D
REFRESH-INTERVAL:P3D
CALSCALE:GREGORIAN
BEGIN:VEVENT
DTSTART;VALUE=DATE:20200120
DTEND;VALUE=DATE:20200121
TRANSP:TRANSPARENT
X-MICROSOFT-CDO-ALLDAYEVENT:TRUE
SUMMARY:Martin Luther King Day - Chamber Closed
DESCRIPTION:Martin Luther King Day - Chamber Office Closed
X-ALT-DESC;FMTTYPE=text/html:Martin Luther King Day - Chamber Office Closed
LOCATION:
UID:e.1767.13087
SEQUENCE:3
DTSTAMP:20260424T102054Z
URL:https://chambermaster.unioncounty.org/events/details/martin-luther-king-day-chamber-closed-13087
END:VEVENT

END:VCALENDAR
