BEGIN:VCALENDAR
VERSION:2.0
PRODID:-//ChamberMaster//Event Calendar 2.0//EN
METHOD:PUBLISH
X-PUBLISHED-TTL:P3D
REFRESH-INTERVAL:P3D
CALSCALE:GREGORIAN
BEGIN:VEVENT
DTSTART:20180902T230000Z
DTEND:20180903T020000Z
X-MICROSOFT-CDO-ALLDAYEVENT:FALSE
SUMMARY:Labor Day Concert
DESCRIPTION:West Liberty Labor Day Festival September 2\, 2018 @ 7pm Lion's Park in West Liberty\, OH Artist: Plumb Sponsored by Shine FM
X-ALT-DESC;FMTTYPE=text/html:West Liberty Labor Day Festival September 2\, 2018 @ 7pm Lion&#39\;s Park in West Liberty\, OH Artist: Plumb Sponsored by Shine FM
LOCATION:West Liberty Lions Park
UID:e.1767.10528
SEQUENCE:3
DTSTAMP:20260425T133016Z
URL:https://chambermaster.unioncounty.org/events/details/labor-day-concert-10528
END:VEVENT

END:VCALENDAR
