BEGIN:VCALENDAR
VERSION:2.0
PRODID:-//ChamberMaster//Event Calendar 2.0//EN
METHOD:PUBLISH
X-PUBLISHED-TTL:P3D
REFRESH-INTERVAL:P3D
CALSCALE:GREGORIAN
BEGIN:VEVENT
DTSTART:20220311T160000Z
DTEND:20220311T163000Z
X-MICROSOFT-CDO-ALLDAYEVENT:FALSE
SUMMARY:Kitschen Bakery Ribbon Cutting
DESCRIPTION:Ribbon Cutting for the Grand Opening
X-ALT-DESC;FMTTYPE=text/html:Ribbon Cutting for the Grand Opening
LOCATION:Kitschen Bakery 117 East Fifth Street Marysville\, OH 43040
UID:e.1767.13376
SEQUENCE:3
DTSTAMP:20260422T102605Z
URL:https://chambermaster.unioncounty.org/events/details/kitschen-bakery-ribbon-cutting-13376
END:VEVENT

END:VCALENDAR
