BEGIN:VCALENDAR
VERSION:2.0
PRODID:-//ChamberMaster//Event Calendar 2.0//EN
METHOD:PUBLISH
X-PUBLISHED-TTL:P3D
REFRESH-INTERVAL:P3D
CALSCALE:GREGORIAN
BEGIN:VEVENT
DTSTART:20180712T113000Z
DTEND:20180712T180000Z
X-MICROSOFT-CDO-ALLDAYEVENT:FALSE
SUMMARY:Industrial Parkway Association - Golf Tournament
DESCRIPTION:IPA Golf Tournament
X-ALT-DESC;FMTTYPE=text/html:IPA Golf Tournament
LOCATION:Darby Creek Golf Course 19300 Orchard Rd Marysville
UID:e.1767.10406
SEQUENCE:3
DTSTAMP:20260425T170318Z
URL:https://chambermaster.unioncounty.org/events/details/industrial-parkway-association-golf-tournament-10406
END:VEVENT

END:VCALENDAR
