BEGIN:VCALENDAR
VERSION:2.0
PRODID:-//ChamberMaster//Event Calendar 2.0//EN
METHOD:PUBLISH
X-PUBLISHED-TTL:P3D
REFRESH-INTERVAL:P3D
CALSCALE:GREGORIAN
BEGIN:VEVENT
DTSTART:20221208T130000Z
DTEND:20221208T140000Z
X-MICROSOFT-CDO-ALLDAYEVENT:FALSE
SUMMARY:Industrial Parkway Association
DESCRIPTION:Industrial Parkway - Christmas Breakfast\n\nTopic: Union Rural Electric Cooperation
X-ALT-DESC;FMTTYPE=text/html:Industrial Parkway - Christmas Breakfast<br />\nTopic: Union Rural Electric Cooperation
LOCATION:Jerome Township Hall 9777 Industrial Parkway\, Plain City
UID:e.1767.10459
SEQUENCE:3
DTSTAMP:20260421T215439Z
URL:https://chambermaster.unioncounty.org/events/details/industrial-parkway-association-12-08-2022-10459
END:VEVENT

END:VCALENDAR
