BEGIN:VCALENDAR
VERSION:2.0
PRODID:-//ChamberMaster//Event Calendar 2.0//EN
METHOD:PUBLISH
X-PUBLISHED-TTL:P3D
REFRESH-INTERVAL:P3D
CALSCALE:GREGORIAN
BEGIN:VEVENT
DTSTART:20191114T130000Z
DTEND:20191114T140000Z
X-MICROSOFT-CDO-ALLDAYEVENT:FALSE
SUMMARY:Industrial Parkway Association
DESCRIPTION:Industrial Parkway Association\n\n\n\nSpeaker: Andrea Weaver\, Union County Auditor\n\nTopic:    Property Values
X-ALT-DESC;FMTTYPE=text/html:Industrial Parkway Association<br />\n<br />\nSpeaker: Andrea Weaver\, Union County Auditor<br />\nTopic:&nbsp\; &nbsp\; Property Values&nbsp\;
LOCATION:Jerome Township Hall 9777 Industrial Parkway Plain City\, OH
UID:e.1767.10422
SEQUENCE:3
DTSTAMP:20260424T133004Z
URL:https://chambermaster.unioncounty.org/events/details/industrial-parkway-association-11-14-2019-10422
END:VEVENT

END:VCALENDAR
