BEGIN:VCALENDAR
VERSION:2.0
PRODID:-//ChamberMaster//Event Calendar 2.0//EN
METHOD:PUBLISH
X-PUBLISHED-TTL:P3D
REFRESH-INTERVAL:P3D
CALSCALE:GREGORIAN
BEGIN:VEVENT
DTSTART:20201112T130000Z
DTEND:20201112T140000Z
X-MICROSOFT-CDO-ALLDAYEVENT:FALSE
SUMMARY:Industrial Parkway Association
DESCRIPTION:Industrial Parkway\n\n\n\nTopic: Leadership\n\nSpeaker: Kara Brown
X-ALT-DESC;FMTTYPE=text/html:Industrial Parkway<br />\n<br />\nTopic: Leadership<br />\nSpeaker: Kara Brown
LOCATION:Zoom
UID:e.1767.10434
SEQUENCE:3
DTSTAMP:20260423T092407Z
URL:https://chambermaster.unioncounty.org/events/details/industrial-parkway-association-11-12-2020-10434
END:VEVENT

END:VCALENDAR
