BEGIN:VCALENDAR
VERSION:2.0
PRODID:-//ChamberMaster//Event Calendar 2.0//EN
METHOD:PUBLISH
X-PUBLISHED-TTL:P3D
REFRESH-INTERVAL:P3D
CALSCALE:GREGORIAN
BEGIN:VEVENT
DTSTART:20200910T120000Z
DTEND:20200910T130000Z
X-MICROSOFT-CDO-ALLDAYEVENT:FALSE
SUMMARY:Industrial Parkway Association
DESCRIPTION:Industrial Parkway Association\n\n\n\nTopic: 9/11 Experience\n\nSpeaker: Brian Dostanko
X-ALT-DESC;FMTTYPE=text/html:Industrial Parkway Association<br />\n<br />\nTopic: 9/11 Experience<br />\nSpeaker: Brian Dostanko
LOCATION:Virtual Meeting (Please contact Tonya at twoodruff@unioncounty.org for Zoom Link)
UID:e.1767.10432
SEQUENCE:3
DTSTAMP:20260423T212539Z
URL:https://chambermaster.unioncounty.org/events/details/industrial-parkway-association-09-10-2020-10432
END:VEVENT

END:VCALENDAR
