BEGIN:VCALENDAR
VERSION:2.0
PRODID:-//ChamberMaster//Event Calendar 2.0//EN
METHOD:PUBLISH
X-PUBLISHED-TTL:P3D
REFRESH-INTERVAL:P3D
CALSCALE:GREGORIAN
BEGIN:VEVENT
DTSTART:20200813T120000Z
DTEND:20200813T130000Z
X-MICROSOFT-CDO-ALLDAYEVENT:FALSE
SUMMARY:Industrial Parkway Association
DESCRIPTION:Industrial Parkway\n\n\n\nTopic: Memorial Health Update\n\nSpeaker: Evie Collins
X-ALT-DESC;FMTTYPE=text/html:Industrial Parkway<br />\n<br />\nTopic: Memorial Health Update<br />\nSpeaker: Evie Collins
LOCATION:Virtual Zoom Meeting Contact Tonya at twoodruff@unioncounty.org for log in information
UID:e.1767.10431
SEQUENCE:3
DTSTAMP:20260423T230102Z
URL:https://chambermaster.unioncounty.org/events/details/industrial-parkway-association-08-13-2020-10431
END:VEVENT

END:VCALENDAR
