BEGIN:VCALENDAR
VERSION:2.0
PRODID:-//ChamberMaster//Event Calendar 2.0//EN
METHOD:PUBLISH
X-PUBLISHED-TTL:P3D
REFRESH-INTERVAL:P3D
CALSCALE:GREGORIAN
BEGIN:VEVENT
DTSTART:20220609T120000Z
DTEND:20220609T130000Z
X-MICROSOFT-CDO-ALLDAYEVENT:FALSE
SUMMARY:Industrial Parkway Association
DESCRIPTION:Industrial Parkway\n\nTopic: Sheriff's K-9 Unit
X-ALT-DESC;FMTTYPE=text/html:Industrial Parkway<br />\nTopic: Sheriff&#39\;s K-9 Unit
LOCATION:Jerome Township Fire Department 9689 US-42 Plain City\, OH 43064
UID:e.1767.10453
SEQUENCE:3
DTSTAMP:20260422T062144Z
URL:https://chambermaster.unioncounty.org/events/details/industrial-parkway-association-06-09-2022-10453
END:VEVENT

END:VCALENDAR
