BEGIN:VCALENDAR
VERSION:2.0
PRODID:-//ChamberMaster//Event Calendar 2.0//EN
METHOD:PUBLISH
X-PUBLISHED-TTL:P3D
REFRESH-INTERVAL:P3D
CALSCALE:GREGORIAN
BEGIN:VEVENT
DTSTART:20230608T120000Z
DTEND:20230608T130000Z
X-MICROSOFT-CDO-ALLDAYEVENT:FALSE
SUMMARY:Industrial Parkway Association
DESCRIPTION:Industrial Parkway\n\n\n\nTopic: Union Rural Electric Cooperative Demo
X-ALT-DESC;FMTTYPE=text/html:Industrial Parkway<br />\n<br />\nTopic: Union Rural Electric Cooperative Demo
LOCATION:Jerome Township Fire Department 9689 US-42\, Plain City
UID:e.1767.10465
SEQUENCE:3
DTSTAMP:20260421T155739Z
URL:https://chambermaster.unioncounty.org/events/details/industrial-parkway-association-06-08-2023-10465
END:VEVENT

END:VCALENDAR
