BEGIN:VCALENDAR
VERSION:2.0
PRODID:-//ChamberMaster//Event Calendar 2.0//EN
METHOD:PUBLISH
X-PUBLISHED-TTL:P3D
REFRESH-INTERVAL:P3D
CALSCALE:GREGORIAN
BEGIN:VEVENT
DTSTART:20210513T120000Z
DTEND:20210513T130000Z
X-MICROSOFT-CDO-ALLDAYEVENT:FALSE
SUMMARY:Industrial Parkway Association
DESCRIPTION:Industrial Parkway\n\n\n\nTopic: Workforce Development & hiring Strategies
X-ALT-DESC;FMTTYPE=text/html:Industrial Parkway<br />\n<br />\nTopic: Workforce Development &amp\; hiring Strategies
LOCATION:Der Dutchman 445 South Jefferson Avenue\, Plain City
UID:e.1767.10440
SEQUENCE:3
DTSTAMP:20260423T014507Z
URL:https://chambermaster.unioncounty.org/events/details/industrial-parkway-association-05-13-2021-10440
END:VEVENT

END:VCALENDAR
