BEGIN:VCALENDAR
VERSION:2.0
PRODID:-//ChamberMaster//Event Calendar 2.0//EN
METHOD:PUBLISH
X-PUBLISHED-TTL:P3D
REFRESH-INTERVAL:P3D
CALSCALE:GREGORIAN
BEGIN:VEVENT
DTSTART:20180510T120000Z
DTEND:20180510T130000Z
X-MICROSOFT-CDO-ALLDAYEVENT:FALSE
SUMMARY:Industrial Parkway Association
DESCRIPTION:Industrial Parkway Association\n\n\n\nTopic: Panel on Staffing    \n\nSpeaker: \n\n\n\nBreakfast Sponsored by: Union County Board of Developmental Disabilities
X-ALT-DESC;FMTTYPE=text/html:Industrial Parkway Association<br />\n<br />\nTopic: Panel on Staffing&nbsp\;&nbsp\;&nbsp\;&nbsp\;<br />\nSpeaker:&nbsp\;<br />\n<br />\nBreakfast Sponsored by: Union County Board of Developmental Disabilities
LOCATION:Jerome Township Hall 9777 Industrial Parkway Plain City\, OH
UID:e.1767.10404
SEQUENCE:3
DTSTAMP:20260425T203028Z
URL:https://chambermaster.unioncounty.org/events/details/industrial-parkway-association-05-10-2018-10404
END:VEVENT

END:VCALENDAR
