BEGIN:VCALENDAR
VERSION:2.0
PRODID:-//ChamberMaster//Event Calendar 2.0//EN
METHOD:PUBLISH
X-PUBLISHED-TTL:P3D
REFRESH-INTERVAL:P3D
CALSCALE:GREGORIAN
BEGIN:VEVENT
DTSTART:20210408T120000Z
DTEND:20210408T130000Z
X-MICROSOFT-CDO-ALLDAYEVENT:FALSE
SUMMARY:Industrial Parkway Association
DESCRIPTION:Industrial Parkway\n\n\n\nTopic: IT Security & Digital Information\n\nSpeakers: Jason Comstock\, Clarity Technology Solutions and Brad Thien\, NetGain Information Systems
X-ALT-DESC;FMTTYPE=text/html:Industrial Parkway<br />\n<br />\nTopic: IT Security &amp\; Digital Information<br />\nSpeakers: Jason Comstock\, Clarity Technology Solutions and Brad Thien\, NetGain Information Systems
LOCATION:1487 Brewery 7620 Industrial Parkway\, Plain City
UID:e.1767.10439
SEQUENCE:3
DTSTAMP:20260423T030425Z
URL:https://chambermaster.unioncounty.org/events/details/industrial-parkway-association-04-08-2021-10439
END:VEVENT

END:VCALENDAR
