BEGIN:VCALENDAR
VERSION:2.0
PRODID:-//ChamberMaster//Event Calendar 2.0//EN
METHOD:PUBLISH
X-PUBLISHED-TTL:P3D
REFRESH-INTERVAL:P3D
CALSCALE:GREGORIAN
BEGIN:VEVENT
DTSTART:20180111T130000Z
DTEND:20180111T140000Z
X-MICROSOFT-CDO-ALLDAYEVENT:FALSE
SUMMARY:Industrial Parkway Association
DESCRIPTION:Industrial Parkway\n\n\n\nTopic: Economic Development\n\nSpeaker: Union County Chamber of Commerce & CIC
X-ALT-DESC;FMTTYPE=text/html:Industrial Parkway<br />\n<br />\nTopic: Economic Development<br />\nSpeaker: Union County Chamber of Commerce &amp\; CIC
LOCATION:Jerome Township Hall 9777 Industrial Parkway Plain City\, OH
UID:e.1767.10400
SEQUENCE:3
DTSTAMP:20260426T032928Z
URL:https://chambermaster.unioncounty.org/events/details/industrial-parkway-association-01-11-2018-10400
END:VEVENT

END:VCALENDAR
