BEGIN:VCALENDAR
VERSION:2.0
PRODID:-//ChamberMaster//Event Calendar 2.0//EN
METHOD:PUBLISH
X-PUBLISHED-TTL:P3D
REFRESH-INTERVAL:P3D
CALSCALE:GREGORIAN
BEGIN:VEVENT
DTSTART:20201017T140000Z
DTEND:20201017T153000Z
X-MICROSOFT-CDO-ALLDAYEVENT:FALSE
SUMMARY:Impact60 - Keep Our Neighborhood Clean
DESCRIPTION:Volunteer cleanup of Uptown Marysville Every 3rd Saturday\n\n\n\nTools & Other support provided by the City of Marysville. Refreshments & other perks included. COVID-19 precautions will be observed.\n\n\n\nSIGN UP
X-ALT-DESC;FMTTYPE=text/html:Volunteer cleanup of Uptown Marysville Every 3rd Saturday<br />\n<br />\nTools &amp\; Other support provided by the City of Marysville. Refreshments &amp\; other perks included. COVID-19 precautions will be observed.<br />\n<br />\n<a href="http://bit.ly/uptowncleanup">SIGN UP&nbsp\;</a>
LOCATION:Leon's Garage 326 E 5th St. Marysville
UID:e.1767.13123
SEQUENCE:3
DTSTAMP:20260423T103427Z
URL:https://chambermaster.unioncounty.org/events/details/impact60-keep-our-neighborhood-clean-10-17-2020-13123
END:VEVENT

END:VCALENDAR
