BEGIN:VCALENDAR
VERSION:2.0
PRODID:-//ChamberMaster//Event Calendar 2.0//EN
METHOD:PUBLISH
X-PUBLISHED-TTL:P3D
REFRESH-INTERVAL:P3D
CALSCALE:GREGORIAN
BEGIN:VEVENT
DTSTART:20180421T140000Z
DTEND:20180421T160000Z
X-MICROSOFT-CDO-ALLDAYEVENT:FALSE
SUMMARY:Hook Up 2 Clean Up
DESCRIPTION:Hook Up 2 Clean Up\n\nJoin Team Marysville on Saturday April 21st from 10:00 to 12:00 PM to "Hook Up 2 Clean Up" the Uptown District. Teams and single entries are invited to participate. This is a great opportunity for church groups\, families\, and businesses to give back to the community in conjunction with Earth Day. Registration fee covers tools\, equipment\, and snacks. Awards will be provided to the teams collecting the most trash!
X-ALT-DESC;FMTTYPE=text/html:Hook Up 2 Clean Up<br />\n<span style="color:black\;"><span style="font-family:arial\,sans-serif\;">Join Team Marysville on Saturday April 21st from 10:00 to 12:00 PM to &quot\;Hook Up 2 Clean Up&quot\; the Uptown District. Teams and single entries are invited to participate. This is a great opportunity for church groups\, families\, and businesses to give back to the community in conjunction with Earth Day. Registration fee covers tools\, equipment\, and snacks. Awards will be provided to the teams collecting the most trash! &nbsp\;</span></span><br />\n&nbsp\;
LOCATION:Meet at Union Station 1820 109 E. Fifth St. Marysville\, OH
UID:e.1767.10696
SEQUENCE:3
DTSTAMP:20260425T220939Z
URL:https://chambermaster.unioncounty.org/events/details/hook-up-2-clean-up-10696
END:VEVENT

END:VCALENDAR
