BEGIN:VCALENDAR
VERSION:2.0
PRODID:-//ChamberMaster//Event Calendar 2.0//EN
METHOD:PUBLISH
X-PUBLISHED-TTL:P3D
REFRESH-INTERVAL:P3D
CALSCALE:GREGORIAN
BEGIN:VEVENT
DTSTART:20180221T153000Z
DTEND:20180221T163000Z
X-MICROSOFT-CDO-ALLDAYEVENT:FALSE
SUMMARY:Historical Committee Meeting
DESCRIPTION:Historical Committee Meeting
X-ALT-DESC;FMTTYPE=text/html:Historical Committee Meeting
LOCATION:
UID:e.1767.4773
SEQUENCE:3
DTSTAMP:20260426T014741Z
URL:https://chambermaster.unioncounty.org/events/details/historical-committee-meeting-02-21-2018-4773
END:VEVENT

END:VCALENDAR
