BEGIN:VCALENDAR
VERSION:2.0
PRODID:-//ChamberMaster//Event Calendar 2.0//EN
METHOD:PUBLISH
X-PUBLISHED-TTL:P3D
REFRESH-INTERVAL:P3D
CALSCALE:GREGORIAN
BEGIN:VEVENT
DTSTART:20180503T213000Z
DTEND:20180503T223000Z
X-MICROSOFT-CDO-ALLDAYEVENT:FALSE
SUMMARY:Helping Aging Parents
DESCRIPTION:Helping Aging Parents \n\nQ & A with expert panel\n\nUnion County Falls Coalition
X-ALT-DESC;FMTTYPE=text/html:Helping Aging Parents&nbsp\;<br />\nQ &amp\; A with expert panel<br />\nUnion County Falls Coalition
LOCATION:Union County Health Department 940 London Rd. Marsyville
UID:e.1767.11697
SEQUENCE:3
DTSTAMP:20260425T202737Z
URL:https://chambermaster.unioncounty.org/events/details/helping-aging-parents-11697
END:VEVENT

END:VCALENDAR
