BEGIN:VCALENDAR
VERSION:2.0
PRODID:-//ChamberMaster//Event Calendar 2.0//EN
METHOD:PUBLISH
X-PUBLISHED-TTL:P3D
REFRESH-INTERVAL:P3D
CALSCALE:GREGORIAN
BEGIN:VEVENT
DTSTART:20180419T180000Z
DTEND:20180419T190000Z
X-MICROSOFT-CDO-ALLDAYEVENT:FALSE
SUMMARY:Healthy Living for the Brain and Body
DESCRIPTION:For centuries\, we've known that the health of the brain and the body are connected. But now\, science is able to provide insights into how to make lifestyle choices that may help keep your brain and your body healthy as you age. Join us to learn about research in the areas of diet and nutrition\, exercise\, cognitive activity\, and social engagement\, and use hands on tools to help you incorporate these recommendations into a plan for healthy living.
X-ALT-DESC;FMTTYPE=text/html:For centuries\, we&#39\;ve known that the health of the brain and the body are connected. But now\, science is able to provide insights into how to make lifestyle choices that may help keep your brain and your body healthy as you age. Join us to learn about research in the areas of diet and nutrition\, exercise\, cognitive activity\, and social engagement\, and use hands on tools to help you incorporate these recommendations into a plan for healthy living.
LOCATION:Windsor Senior Center 376 Rosehill Dr Marysville\, Oh 4304
UID:e.1767.11702
SEQUENCE:3
DTSTAMP:20260425T221449Z
URL:https://chambermaster.unioncounty.org/events/details/healthy-living-for-the-brain-and-body-11702
END:VEVENT

END:VCALENDAR
