BEGIN:VCALENDAR
VERSION:2.0
PRODID:-//ChamberMaster//Event Calendar 2.0//EN
METHOD:PUBLISH
X-PUBLISHED-TTL:P3D
REFRESH-INTERVAL:P3D
CALSCALE:GREGORIAN
BEGIN:VEVENT
DTSTART:20201027T153000Z
DTEND:20201027T170000Z
X-MICROSOFT-CDO-ALLDAYEVENT:FALSE
SUMMARY:Healthcare Providers Association - In Person
DESCRIPTION:Healthcare Providers Association Meeting - IN PERSON\n\n\n\nSpeaker - Representative Jim Jordan - Update on Healthcare\n\n\n\nYou must register to attend this event and seating is limited.\n\nSocial Distancing and Masks will be required.\n\nLunch will be provided.
X-ALT-DESC;FMTTYPE=text/html:Healthcare Providers Association Meeting - IN PERSON<br />\n<br />\nSpeaker - Representative Jim Jordan - Update on Healthcare<br />\n<br />\n<strong>You must register to attend this event and seating is limited.</strong><br />\n<strong>Social Distancing and Masks will be required.<br />\nLunch will be provided.</strong>
LOCATION:Der Dutchman Restaurant & Bakery 445 S Jefferson Ave Plain City\, OH 43064
UID:e.1767.7015
SEQUENCE:3
DTSTAMP:20260423T194850Z
URL:https://chambermaster.unioncounty.org/events/details/healthcare-providers-association-in-person-7015
END:VEVENT

END:VCALENDAR
