BEGIN:VCALENDAR
VERSION:2.0
PRODID:-//ChamberMaster//Event Calendar 2.0//EN
METHOD:PUBLISH
X-PUBLISHED-TTL:P3D
REFRESH-INTERVAL:P3D
CALSCALE:GREGORIAN
BEGIN:VEVENT
DTSTART:20200922T153000Z
DTEND:20200922T163000Z
X-MICROSOFT-CDO-ALLDAYEVENT:FALSE
SUMMARY:Healthcare Providers Association
DESCRIPTION:Healthcare Providers
X-ALT-DESC;FMTTYPE=text/html:Healthcare Providers
LOCATION:Via Zoom
UID:e.1767.7014
SEQUENCE:3
DTSTAMP:20260423T211654Z
URL:https://chambermaster.unioncounty.org/events/details/healthcare-providers-association-09-22-2020-7014
END:VEVENT

END:VCALENDAR
