BEGIN:VCALENDAR
VERSION:2.0
PRODID:-//ChamberMaster//Event Calendar 2.0//EN
METHOD:PUBLISH
X-PUBLISHED-TTL:P3D
REFRESH-INTERVAL:P3D
CALSCALE:GREGORIAN
BEGIN:VEVENT
DTSTART:20180828T153000Z
DTEND:20180828T163000Z
X-MICROSOFT-CDO-ALLDAYEVENT:FALSE
SUMMARY:Healthcare Providers Association
DESCRIPTION:Healthcare Providers Monthly Meeting
X-ALT-DESC;FMTTYPE=text/html:<span style="font-size:12px\;">Healthcare Providers Monthly Meeting</span>
LOCATION:Union County Chamber of Commerce 227 East Fifth Street Marysville\, OH 43040
UID:e.1767.6989
SEQUENCE:3
DTSTAMP:20260425T153326Z
URL:https://chambermaster.unioncounty.org/events/details/healthcare-providers-association-08-28-2018-6989
END:VEVENT

END:VCALENDAR
