BEGIN:VCALENDAR
VERSION:2.0
PRODID:-//ChamberMaster//Event Calendar 2.0//EN
METHOD:PUBLISH
X-PUBLISHED-TTL:P3D
REFRESH-INTERVAL:P3D
CALSCALE:GREGORIAN
BEGIN:VEVENT
DTSTART:20230627T153000Z
DTEND:20230627T163000Z
X-MICROSOFT-CDO-ALLDAYEVENT:FALSE
SUMMARY:Healthcare Providers Association
DESCRIPTION:Healthcare Providers\n\nTopic: Union County Senior Services
X-ALT-DESC;FMTTYPE=text/html:Healthcare Providers<br />\nTopic: Union County Senior Services
LOCATION:The Chamber Office 227 East Fifth Street\, Marysville
UID:e.1767.7047
SEQUENCE:3
DTSTAMP:20260421T160502Z
URL:https://chambermaster.unioncounty.org/events/details/healthcare-providers-association-06-27-2023-7047
END:VEVENT

END:VCALENDAR
