BEGIN:VCALENDAR
VERSION:2.0
PRODID:-//ChamberMaster//Event Calendar 2.0//EN
METHOD:PUBLISH
X-PUBLISHED-TTL:P3D
REFRESH-INTERVAL:P3D
CALSCALE:GREGORIAN
BEGIN:VEVENT
DTSTART:20180522T153000Z
DTEND:20180522T170000Z
X-MICROSOFT-CDO-ALLDAYEVENT:FALSE
SUMMARY:Healthcare Providers Association
DESCRIPTION:Healthcare Providers\n\nOpiate Impact Lunch & Learn
X-ALT-DESC;FMTTYPE=text/html:Healthcare Providers<br />\nOpiate Impact Lunch &amp\; Learn
LOCATION:Police & Court Building 1250 W. Fifth St. Marysville
UID:e.1767.6986
SEQUENCE:3
DTSTAMP:20260425T203150Z
URL:https://chambermaster.unioncounty.org/events/details/healthcare-providers-association-05-22-2018-6986
END:VEVENT

END:VCALENDAR
