BEGIN:VCALENDAR
VERSION:2.0
PRODID:-//ChamberMaster//Event Calendar 2.0//EN
METHOD:PUBLISH
X-PUBLISHED-TTL:P3D
REFRESH-INTERVAL:P3D
CALSCALE:GREGORIAN
BEGIN:VEVENT
DTSTART:20230425T153000Z
DTEND:20230425T163000Z
X-MICROSOFT-CDO-ALLDAYEVENT:FALSE
SUMMARY:Healthcare Providers Association
DESCRIPTION:Healthcare Providers\n\nTopic: Memorial Health Update
X-ALT-DESC;FMTTYPE=text/html:Healthcare Providers<br />\nTopic: Memorial Health Update
LOCATION:The Chamber Office 227 East Fifth Street\, Marysville
UID:e.1767.7045
SEQUENCE:3
DTSTAMP:20260421T143834Z
URL:https://chambermaster.unioncounty.org/events/details/healthcare-providers-association-04-25-2023-7045
END:VEVENT

END:VCALENDAR
