BEGIN:VCALENDAR
VERSION:2.0
PRODID:-//ChamberMaster//Event Calendar 2.0//EN
METHOD:PUBLISH
X-PUBLISHED-TTL:P3D
REFRESH-INTERVAL:P3D
CALSCALE:GREGORIAN
BEGIN:VEVENT
DTSTART:20180424T153000Z
DTEND:20180424T163000Z
X-MICROSOFT-CDO-ALLDAYEVENT:FALSE
SUMMARY:Healthcare Providers Association
DESCRIPTION:Healthcare Providers\n\nEvie Collins from Memorial Health will be speaking
X-ALT-DESC;FMTTYPE=text/html:Healthcare Providers<br />\nEvie Collins from Memorial Health will be speaking
LOCATION:Chamber Office 227 E. Fifth St. Marysville
UID:e.1767.6985
SEQUENCE:3
DTSTAMP:20260425T221405Z
URL:https://chambermaster.unioncounty.org/events/details/healthcare-providers-association-04-24-2018-6985
END:VEVENT

END:VCALENDAR
