BEGIN:VCALENDAR
VERSION:2.0
PRODID:-//ChamberMaster//Event Calendar 2.0//EN
METHOD:PUBLISH
X-PUBLISHED-TTL:P3D
REFRESH-INTERVAL:P3D
CALSCALE:GREGORIAN
BEGIN:VEVENT
DTSTART:20190423T153000Z
DTEND:20190423T163000Z
X-MICROSOFT-CDO-ALLDAYEVENT:FALSE
SUMMARY:Healthcare Providers Association
DESCRIPTION:Healthcare Providers\n\nEmergency Preparedness - Rick Roush
X-ALT-DESC;FMTTYPE=text/html:Healthcare Providers<br />\nEmergency Preparedness - Rick Roush
LOCATION:Police & Court 1250 W. Fifth St. Marysville
UID:e.1767.6997
SEQUENCE:3
DTSTAMP:20260425T013502Z
URL:https://chambermaster.unioncounty.org/events/details/healthcare-providers-association-04-23-2019-6997
END:VEVENT

END:VCALENDAR
