BEGIN:VCALENDAR
VERSION:2.0
PRODID:-//ChamberMaster//Event Calendar 2.0//EN
METHOD:PUBLISH
X-PUBLISHED-TTL:P3D
REFRESH-INTERVAL:P3D
CALSCALE:GREGORIAN
BEGIN:VEVENT
DTSTART:20230228T163000Z
DTEND:20230228T173000Z
X-MICROSOFT-CDO-ALLDAYEVENT:FALSE
SUMMARY:Healthcare Providers Association
DESCRIPTION:Healthcare Providers\n\n\n\nDrug Overdose Prevention\n\nLindsay Fetherolf\, Health Educator at Union County Health Department
X-ALT-DESC;FMTTYPE=text/html:Healthcare Providers<br />\n<br />\nDrug Overdose Prevention<br />\nLindsay Fetherolf\, Health Educator at Union County Health Department
LOCATION:The Chamber Office 227 East Fifth Street\, Marysville
UID:e.1767.7043
SEQUENCE:3
DTSTAMP:20260421T173409Z
URL:https://chambermaster.unioncounty.org/events/details/healthcare-providers-association-02-28-2023-7043
END:VEVENT

END:VCALENDAR
