BEGIN:VCALENDAR
VERSION:2.0
PRODID:-//ChamberMaster//Event Calendar 2.0//EN
METHOD:PUBLISH
X-PUBLISHED-TTL:P3D
REFRESH-INTERVAL:P3D
CALSCALE:GREGORIAN
BEGIN:VEVENT
DTSTART:20180227T163000Z
DTEND:20180227T180000Z
X-MICROSOFT-CDO-ALLDAYEVENT:FALSE
SUMMARY:Healthcare Providers Association
DESCRIPTION:Healthcare Providers\n\nOpiate Round Table
X-ALT-DESC;FMTTYPE=text/html:Healthcare Providers<br />\nOpiate Round Table
LOCATION:Marysville Division of Police Community Room 1250 W. Fifth St. Marysville
UID:e.1767.6983
SEQUENCE:3
DTSTAMP:20260426T020706Z
URL:https://chambermaster.unioncounty.org/events/details/healthcare-providers-association-02-27-2018-6983
END:VEVENT

END:VCALENDAR
