BEGIN:VCALENDAR
VERSION:2.0
PRODID:-//ChamberMaster//Event Calendar 2.0//EN
METHOD:PUBLISH
X-PUBLISHED-TTL:P3D
REFRESH-INTERVAL:P3D
CALSCALE:GREGORIAN
BEGIN:VEVENT
DTSTART:20200128T163000Z
DTEND:20200128T173000Z
X-MICROSOFT-CDO-ALLDAYEVENT:FALSE
SUMMARY:Healthcare Providers Association
DESCRIPTION:Healthcare Providers Topic\n\nPlanning Topics for 2020
X-ALT-DESC;FMTTYPE=text/html:Healthcare Providers Topic<br />\nPlanning Topics for 2020
LOCATION:Chamber Office 227 E. Fifth St. Marysville
UID:e.1767.7006
SEQUENCE:3
DTSTAMP:20260424T120024Z
URL:https://chambermaster.unioncounty.org/events/details/healthcare-providers-association-01-28-2020-7006
END:VEVENT

END:VCALENDAR
