BEGIN:VCALENDAR
VERSION:2.0
PRODID:-//ChamberMaster//Event Calendar 2.0//EN
METHOD:PUBLISH
X-PUBLISHED-TTL:P3D
REFRESH-INTERVAL:P3D
CALSCALE:GREGORIAN
BEGIN:VEVENT
DTSTART:20200128T213000Z
DTEND:20200129T000000Z
X-MICROSOFT-CDO-ALLDAYEVENT:FALSE
SUMMARY:Grand Opening & Ribbon Cutting
DESCRIPTION:Grand Opening and Ribbon Cutting\n\nThe Middlefield Banking Company\n\nRefreshments & Hors D'Oeuvres\n\nRibbon Cutting Presentation at 5:00 pm
X-ALT-DESC;FMTTYPE=text/html:Grand Opening and Ribbon Cutting<br>\nThe Middlefield Banking Company<br>\nRefreshments &amp\; Hors D'Oeuvres<br>\nRibbon Cutting Presentation at 5:00 pm
LOCATION:The Middlefield Banking Company 490 S Jefferson Avenue Plain City\, OH 43064
UID:e.1767.13091
SEQUENCE:3
DTSTAMP:20260424T115646Z
URL:https://chambermaster.unioncounty.org/events/details/grand-opening-ribbon-cutting-13091
END:VEVENT

END:VCALENDAR
