BEGIN:VCALENDAR
VERSION:2.0
PRODID:-//ChamberMaster//Event Calendar 2.0//EN
METHOD:PUBLISH
X-PUBLISHED-TTL:P3D
REFRESH-INTERVAL:P3D
CALSCALE:GREGORIAN
BEGIN:VEVENT
DTSTART:20181005T220000Z
DTEND:20181006T020000Z
X-MICROSOFT-CDO-ALLDAYEVENT:FALSE
SUMMARY:Friday Nights Uptown
DESCRIPTION:Bob Chapman Ford's Oktoberfest
X-ALT-DESC;FMTTYPE=text/html:Bob Chapman Ford&#39\;s Oktoberfest&nbsp\;
LOCATION:Partners Park E Sixth St. Marysville
UID:e.1767.10666
SEQUENCE:3
DTSTAMP:20260425T115737Z
URL:https://chambermaster.unioncounty.org/events/details/friday-nights-uptown-10666
END:VEVENT

END:VCALENDAR
