BEGIN:VCALENDAR
VERSION:2.0
PRODID:-//ChamberMaster//Event Calendar 2.0//EN
METHOD:PUBLISH
X-PUBLISHED-TTL:P3D
REFRESH-INTERVAL:P3D
CALSCALE:GREGORIAN
BEGIN:VEVENT
DTSTART:20180817T220000Z
DTEND:20180818T020000Z
X-MICROSOFT-CDO-ALLDAYEVENT:FALSE
SUMMARY:Friday Nights Uptown
DESCRIPTION:Coughlin Marysville's Blues & Brews
X-ALT-DESC;FMTTYPE=text/html:Coughlin Marysville&#39\;s Blues &amp\; Brews
LOCATION:Partners Park E Sixth St. Marysville
UID:e.1767.10665
SEQUENCE:3
DTSTAMP:20260425T154423Z
URL:https://chambermaster.unioncounty.org/events/details/friday-nights-uptown-10665
END:VEVENT

END:VCALENDAR
