BEGIN:VCALENDAR
VERSION:2.0
PRODID:-//ChamberMaster//Event Calendar 2.0//EN
METHOD:PUBLISH
X-PUBLISHED-TTL:P3D
REFRESH-INTERVAL:P3D
CALSCALE:GREGORIAN
BEGIN:VEVENT
DTSTART:20180713T220000Z
DTEND:20180714T020000Z
X-MICROSOFT-CDO-ALLDAYEVENT:FALSE
SUMMARY:Friday Nights Uptown
DESCRIPTION:Honda Marysville's Rock the Block
X-ALT-DESC;FMTTYPE=text/html:Honda Marysville&#39\;s Rock the Block
LOCATION:Partners Park E Sixth St. Marysville
UID:e.1767.10664
SEQUENCE:3
DTSTAMP:20260425T183417Z
URL:https://chambermaster.unioncounty.org/events/details/friday-nights-uptown-10664
END:VEVENT

END:VCALENDAR
