BEGIN:VCALENDAR
VERSION:2.0
PRODID:-//ChamberMaster//Event Calendar 2.0//EN
METHOD:PUBLISH
X-PUBLISHED-TTL:P3D
REFRESH-INTERVAL:P3D
CALSCALE:GREGORIAN
BEGIN:VEVENT
DTSTART:20180518T220000Z
DTEND:20180519T020000Z
X-MICROSOFT-CDO-ALLDAYEVENT:FALSE
SUMMARY:Friday Nights Uptown
DESCRIPTION:Scotts Miracle-Gro 150th Anniversary Celebration
X-ALT-DESC;FMTTYPE=text/html:Scotts Miracle-Gro 150th&nbsp\;Anniversary Celebration
LOCATION:Partners Park E Sixth St. Marysville
UID:e.1767.10533
SEQUENCE:3
DTSTAMP:20260425T202909Z
URL:https://chambermaster.unioncounty.org/events/details/friday-nights-uptown-10533
END:VEVENT

END:VCALENDAR
