BEGIN:VCALENDAR
VERSION:2.0
PRODID:-//ChamberMaster//Event Calendar 2.0//EN
METHOD:PUBLISH
X-PUBLISHED-TTL:P3D
REFRESH-INTERVAL:P3D
CALSCALE:GREGORIAN
BEGIN:VEVENT
DTSTART:20181025T153000Z
DTEND:20181025T173000Z
X-MICROSOFT-CDO-ALLDAYEVENT:FALSE
SUMMARY:Free Lunch & Learn - DiSC Personal Assessment
DESCRIPTION:You're Invited!\n\n \n\nAcloch  Staffing Lunch & Learn\n\n\n\nDate:   Thursday\, October 25th\, 2018\n\nTime:   11:30 AM   1:30 PM\n\nPlace:   Bellefontaine Library\, 220 N. Main Street\, Bellefontaine\, OH 43311\n\n \n\nPresented by esteemed Workforce Development Professional Lorie Simpson! Have you ever wondered why it's so easy to work with some people and more challenging to work with others?\n\n\n\nIn this quick session\, we will find out your own DiSC Style (Dominance\, Influence\, Steadiness\, and Conscientiousness) for understanding others and building more effective relationships. \n\n	DiSC was developed by Dr. William Marston\, a professor at Columbia University.  Millions of people have used this system to discover their personal style and the styles of others. \n	This system provides a common language that people can use to discuss what behaviors they share with others and who has a different style.\n	Understanding different styles is an important first step in resolving workplace conflicts and building better relationships. \n\nThis event is FREE to attend\, but space is limited so please RSVP early to ensure your spot by registering at the link below:\n\n  \n\nhttps://www.eventbrite.com/e/acloche-presents-disc-personal-assessment-tickets-50451112636\n\n\n\n \n\nAs part of our 50th anniversary celebration\, Acloch  is hosting monthly Lunch & Learn workshops where a diverse range of business professionals can expand their knowledge and hone their skills as leaders. These Lunch & Learns are part of our 50 for 50 campaign\, where Acloch  aims to give back to the community that has supported our growth and success for 50 years.\n\n\n\n*Acloch  may be taking pictures of this event for blog\, social media\, and other use.
X-ALT-DESC;FMTTYPE=text/html:<br />\n<strong><span style="color:#00003E"><span style="font-family:arial\,sans-serif"><span style="font-size:26.0pt">You&rsquo\;re Invited!</span></span></span></strong><br />\n&nbsp\;<br />\n<strong><span style="font-family:arial\,sans-serif">Acloch&eacute\; Staffing Lunch &amp\; Learn</span></strong><br />\n<br />\n<span style="font-family:arial\,sans-serif"><span style="font-size:10.5pt">Date:&nbsp\;&nbsp\; Thursday\, October 25th\, 2018<br />\nTime:&nbsp\;&nbsp\; 11:30 AM &mdash\; 1:30 PM<br />\nPlace:&nbsp\;&nbsp\; Bellefontaine Library\, 220 N. Main Street\, Bellefontaine\, OH 43311</span></span><br />\n&nbsp\;<br />\n<span style="font-family:arial\,sans-serif">Presented by esteemed Workforce Development Professional Lorie Simpson! Have you ever wondered why it&#39\;s so easy to work with some people and more challenging to work with others?<br />\n<br />\nIn this quick session\, we will find out your own DiSC Style (Dominance\, Influence\, Steadiness\, and Conscientiousness) for understanding others and building more effective relationships.&nbsp\;</span>\n<ul>\n	<li><span style="font-family:arial\,sans-serif">DiSC was developed by Dr. William Marston\, a professor at Columbia University.&nbsp\; Millions of people have used this system to discover their personal style and the styles of others.&nbsp\;</span></li>\n	<li><span style="font-family:arial\,sans-serif">This system provides a common language that people can use to discuss what behaviors they share with others and who has a different style.</span></li>\n	<li><span style="font-family:arial\,sans-serif">Understanding different styles is an important first step in resolving workplace conflicts and building better relationships.&nbsp\;</span></li>\n</ul>\n<span style="font-family:arial\,sans-serif">This event is<strong>&nbsp\;FREE to attend</strong>\, but&nbsp\;<u>space is limited</u>&nbsp\;so please RSVP early to ensure your spot by registering at the link below:</span><br />\n&nbsp\;&nbsp\;<br />\n<span style="color:red"><span style="font-family:arial\,sans-serif"><span style="font-size:10.0pt"><a href="https://www.eventbrite.com/e/acloche-presents-disc-personal-assessment-tickets-50451112636">https://www.eventbrite.com/e/acloche-presents-disc-personal-assessment-tickets-50451112636</a></span></span></span><br />\n<br />\n&nbsp\;<br />\n<span style="font-family:arial\,sans-serif">As part of our 50th anniversary celebration\, Acloch&eacute\; is hosting monthly Lunch &amp\; Learn workshops where a diverse range of business professionals can expand their knowledge and hone their skills as leaders. These Lunch &amp\; Learns are part of our 50 for 50 campaign\, where Acloch&eacute\; aims to give back to the community that has supported our growth and success for 50 years.</span><br />\n<br />\n<span style="font-family:arial\,sans-serif">*Acloch&eacute\; may be taking pictures of this event for blog\, social media\, and other use.</span><br />\n<br />\n<br />\n&nbsp\;
LOCATION:Bellefontaine Library 220 North Main Street Bellefontaine\, Ohio 43311
UID:e.1767.12748
SEQUENCE:3
DTSTAMP:20260425T115756Z
URL:https://chambermaster.unioncounty.org/events/details/free-lunch-learn-disc-personal-assessment-12748
END:VEVENT

END:VCALENDAR
