BEGIN:VCALENDAR
VERSION:2.0
PRODID:-//ChamberMaster//Event Calendar 2.0//EN
METHOD:PUBLISH
X-PUBLISHED-TTL:P3D
REFRESH-INTERVAL:P3D
CALSCALE:GREGORIAN
BEGIN:VEVENT
DTSTART:20180515T130000Z
DTEND:20180515T200000Z
X-MICROSOFT-CDO-ALLDAYEVENT:FALSE
SUMMARY:Free Coin Appraisal @ Richwood Bank in Marysville
DESCRIPTION:HCC Rare Coins will be conducting FREE COIN APPRAISALS at Richwood Bank (250 E. Fifth St\, Marysville) on Tuesday\, May 15th. Appraisals will take place between 9am and 4pm. No appointment necessary. So\, come find out what your collection of any size is worth. WE ARE BUYING - no obligation to sell. Contact us at 800.422.4405 with questions.
X-ALT-DESC;FMTTYPE=text/html:HCC Rare Coins will be conducting FREE COIN APPRAISALS at Richwood Bank (250 E. Fifth St\, Marysville) on Tuesday\, May 15th. Appraisals will take place between 9am and 4pm. No appointment necessary. So\, come find out what your collection of any size is worth. WE ARE BUYING - no obligation to sell. Contact us at 800.422.4405 with questions.
LOCATION:Richwood Bank\; 250 E. Fifth St\, Marysville
UID:e.1767.12709
SEQUENCE:3
DTSTAMP:20260425T203323Z
URL:https://chambermaster.unioncounty.org/events/details/free-coin-appraisal-richwood-bank-in-marysville-12709
END:VEVENT

END:VCALENDAR
