BEGIN:VCALENDAR
VERSION:2.0
PRODID:-//ChamberMaster//Event Calendar 2.0//EN
METHOD:PUBLISH
X-PUBLISHED-TTL:P3D
REFRESH-INTERVAL:P3D
CALSCALE:GREGORIAN
BEGIN:VEVENT
DTSTART:20180811T120000Z
DTEND:20180811T170000Z
X-MICROSOFT-CDO-ALLDAYEVENT:FALSE
SUMMARY:Farmers Market Festival
DESCRIPTION:Celebrate summer harvest at the Union County Farmers Market Festival. \n\nLive Animals\n\nKids Zone\n\nCooking Demo's
X-ALT-DESC;FMTTYPE=text/html:Celebrate summer harvest at the Union County Farmers Market Festival.&nbsp\;<br />\nLive Animals<br />\nKids Zone<br />\nCooking Demo&#39\;s
LOCATION:Partners Park 6th & Main St.\, Marysville
UID:e.1767.12740
SEQUENCE:3
DTSTAMP:20260425T153414Z
URL:https://chambermaster.unioncounty.org/events/details/farmers-market-festival-12740
END:VEVENT

END:VCALENDAR
