BEGIN:VCALENDAR
VERSION:2.0
PRODID:-//ChamberMaster//Event Calendar 2.0//EN
METHOD:PUBLISH
X-PUBLISHED-TTL:P3D
REFRESH-INTERVAL:P3D
CALSCALE:GREGORIAN
BEGIN:VEVENT
DTSTART:20180330T010000Z
DTEND:20180330T030000Z
X-MICROSOFT-CDO-ALLDAYEVENT:FALSE
SUMMARY:Executive Preview
DESCRIPTION:This overview is your opportunity to learn first-hand how this dynamic \n\nprogram can:\n\n\n\nLiberate the leaders within your organization to do extraordinary things!\n\nCreate an environment where innovation\, ownership\, and  job satisfaction thrive.\n\nTransform leaders at all levels in your organization while improving your own leadership performance.\n\nApply evidence-based\, data-driven leadership tools   backed by 30 years of research!
X-ALT-DESC;FMTTYPE=text/html:This overview is your opportunity to learn first-hand how this dynamic&nbsp\;<br />\nprogram can:<br />\n<br />\nLiberate the leaders within your organization to do extraordinary things!<br />\nCreate an environment where innovation\, ownership\, and&nbsp\; job satisfaction thrive.<br />\nTransform leaders at all levels in your organization while improving your own leadership performance.<br />\nApply evidence-based\, data-driven leadership tools &mdash\; backed by 30 years of research!<br />\n&nbsp\;
LOCATION:The Union County Chamber of Commerce 227 East 5th Street Marysville
UID:e.1767.10695
SEQUENCE:3
DTSTAMP:20260426T014445Z
URL:https://chambermaster.unioncounty.org/events/details/executive-preview-10695
END:VEVENT

END:VCALENDAR
