BEGIN:VCALENDAR
VERSION:2.0
PRODID:-//ChamberMaster//Event Calendar 2.0//EN
METHOD:PUBLISH
X-PUBLISHED-TTL:P3D
REFRESH-INTERVAL:P3D
CALSCALE:GREGORIAN
BEGIN:VEVENT
DTSTART:20211106T190000Z
DTEND:20211106T210000Z
X-MICROSOFT-CDO-ALLDAYEVENT:FALSE
SUMMARY:Enchanted Ball
DESCRIPTION:Join us to celebrate\, dance and sing with our favorite princesses at our enchanted ball! Ages 5-12 (siblings ages 3-4 may join for free!) Tickets are available from our website!
X-ALT-DESC;FMTTYPE=text/html:Join us to celebrate\, dance and sing with our favorite princesses at our enchanted ball! Ages 5-12 (siblings ages 3-4 may join for free!) Tickets are available from our website!
LOCATION:Red School of Music (433 Allenby Drive\, Marysville\, OH 43040)
UID:e.1767.13167
SEQUENCE:3
DTSTAMP:20260422T224447Z
URL:https://chambermaster.unioncounty.org/events/details/enchanted-ball-13167
END:VEVENT

END:VCALENDAR
