BEGIN:VCALENDAR
VERSION:2.0
PRODID:-//ChamberMaster//Event Calendar 2.0//EN
METHOD:PUBLISH
X-PUBLISHED-TTL:P3D
REFRESH-INTERVAL:P3D
CALSCALE:GREGORIAN
BEGIN:VEVENT
DTSTART:20180713T160000Z
DTEND:20180713T170000Z
X-MICROSOFT-CDO-ALLDAYEVENT:FALSE
SUMMARY:Effective Communication Strategies
DESCRIPTION:Lunch and Learn provided by Pulse Yoga/Fitness Communication is more than just talking and listening. It is also about sending and receiving messages through attitude\, tone of voice\, facial expressions and body language. As people with Alzheimer's disease and other dementia progress in their journey and the ability to lose words is lost\, families need new ways to connect. Join us to explore how communication takes place through the dementia journey.
X-ALT-DESC;FMTTYPE=text/html:Lunch and Learn provided by Pulse Yoga/Fitness Communication is more than just talking and listening. It is also about sending and receiving messages through attitude\, tone of voice\, facial expressions and body language. As people with Alzheimer&#39\;s disease and other dementia progress in their journey and the ability to lose words is lost\, families need new ways to connect. Join us to explore how communication takes place through the dementia journey.
LOCATION:Union County Senior Services 940 London Avenue Marysville\, Oh 43040
UID:e.1767.12721
SEQUENCE:3
DTSTAMP:20260425T183417Z
URL:https://chambermaster.unioncounty.org/events/details/effective-communication-strategies-12721
END:VEVENT

END:VCALENDAR
