BEGIN:VCALENDAR
VERSION:2.0
PRODID:-//ChamberMaster//Event Calendar 2.0//EN
METHOD:PUBLISH
X-PUBLISHED-TTL:P3D
REFRESH-INTERVAL:P3D
CALSCALE:GREGORIAN
BEGIN:VEVENT
DTSTART:20220301T170000Z
DTEND:20220301T173000Z
X-MICROSOFT-CDO-ALLDAYEVENT:FALSE
SUMMARY:Donay Chiropractic Ribbon Cutting
DESCRIPTION:Ribbon Cutting to Celebrate One Year Anniversary!
X-ALT-DESC;FMTTYPE=text/html:Ribbon Cutting to Celebrate One Year Anniversary!
LOCATION:Donay Chiropractic 388 Damascus Marysville\, OH 43040
UID:e.1767.13374
SEQUENCE:3
DTSTAMP:20260422T102744Z
URL:https://chambermaster.unioncounty.org/events/details/donay-chiropractic-ribbon-cutting-13374
END:VEVENT

END:VCALENDAR
