BEGIN:VCALENDAR
VERSION:2.0
PRODID:-//ChamberMaster//Event Calendar 2.0//EN
METHOD:PUBLISH
X-PUBLISHED-TTL:P3D
REFRESH-INTERVAL:P3D
CALSCALE:GREGORIAN
BEGIN:VEVENT
DTSTART:20190427T130000Z
DTEND:20190427T160000Z
X-MICROSOFT-CDO-ALLDAYEVENT:FALSE
SUMMARY:Document Shredding & E-Recycling
DESCRIPTION:Document Shredding & E-Recycling
X-ALT-DESC;FMTTYPE=text/html:Document Shredding &amp\; E-Recycling
LOCATION:Police & Municipal Court 1250 W. Fifth St.\, Marysville
UID:e.1767.12780
SEQUENCE:3
DTSTAMP:20260425T011719Z
URL:https://chambermaster.unioncounty.org/events/details/document-shredding-e-recycling-12780
END:VEVENT

END:VCALENDAR
